BEGIN:VCALENDAR
VERSION:2.0
PRODID:-//Mag Jeunes - ECPv6.2.8.2//NONSGML v1.0//EN
CALSCALE:GREGORIAN
METHOD:PUBLISH
X-WR-CALNAME:Mag Jeunes
X-ORIGINAL-URL:https://inspiring-leakey.51-91-120-226.plesk.page
X-WR-CALDESC:évènements pour Mag Jeunes
REFRESH-INTERVAL;VALUE=DURATION:PT1H
X-Robots-Tag:noindex
X-PUBLISHED-TTL:PT1H
BEGIN:VTIMEZONE
TZID:Europe/Paris
BEGIN:DAYLIGHT
TZOFFSETFROM:+0100
TZOFFSETTO:+0200
TZNAME:CEST
DTSTART:20230326T010000
END:DAYLIGHT
BEGIN:STANDARD
TZOFFSETFROM:+0200
TZOFFSETTO:+0100
TZNAME:CET
DTSTART:20231029T010000
END:STANDARD
END:VTIMEZONE
BEGIN:VEVENT
DTSTART;TZID=Europe/Paris:20230202T183000
DTEND;TZID=Europe/Paris:20230202T213000
DTSTAMP:20260425T184026
CREATED:20221108T083622Z
LAST-MODIFIED:20230112T083658Z
UID:364-1675362600-1675373400@inspiring-leakey.51-91-120-226.plesk.page
SUMMARY:Inauguration second Mag Jeunes
DESCRIPTION:Inauguration de la sortie du second numéro du Mag Jeunes au Café Charbon le 2 février 2023\, à partir de 18:30.
URL:https://inspiring-leakey.51-91-120-226.plesk.page/evenement/magjeunes2/
LOCATION:Café Charbon\, 10 rue Mademoiselle Bourgeois\, Nevers\, 58000\, France
END:VEVENT
END:VCALENDAR