BEGIN:VCALENDAR
VERSION:2.0
PRODID:-//Mag Jeunes - ECPv6.2.8.2//NONSGML v1.0//EN
CALSCALE:GREGORIAN
METHOD:PUBLISH
X-ORIGINAL-URL:https://inspiring-leakey.51-91-120-226.plesk.page
X-WR-CALDESC:évènements pour Mag Jeunes
REFRESH-INTERVAL;VALUE=DURATION:PT1H
X-Robots-Tag:noindex
X-PUBLISHED-TTL:PT1H
BEGIN:VTIMEZONE
TZID:Europe/Paris
BEGIN:DAYLIGHT
TZOFFSETFROM:+0100
TZOFFSETTO:+0200
TZNAME:CEST
DTSTART:20220327T010000
END:DAYLIGHT
BEGIN:STANDARD
TZOFFSETFROM:+0200
TZOFFSETTO:+0100
TZNAME:CET
DTSTART:20221030T010000
END:STANDARD
END:VTIMEZONE
BEGIN:VEVENT
DTSTART;TZID=Europe/Paris:20221108T100000
DTEND;TZID=Europe/Paris:20221108T120000
DTSTAMP:20260425T225839
CREATED:20221027T071430Z
LAST-MODIFIED:20221027T071430Z
UID:307-1667901600-1667908800@inspiring-leakey.51-91-120-226.plesk.page
SUMMARY:CDJC
DESCRIPTION:
URL:https://inspiring-leakey.51-91-120-226.plesk.page/evenement/cdjc_20221108/
LOCATION:Salle François Mitterrand\, 64 rue de la Prefecture\, Nevers\, 58000\, France
END:VEVENT
END:VCALENDAR